
BEGIN:VCALENDAR
VERSION:2.0
PRODID:-//Centre Culturel Jean Vilar - ECPv6.15.20//NONSGML v1.0//EN
CALSCALE:GREGORIAN
METHOD:PUBLISH
X-WR-CALNAME:Centre Culturel Jean Vilar
X-ORIGINAL-URL:https://www.ccjeanvilar.fr
X-WR-CALDESC:Évènements pour Centre Culturel Jean Vilar
REFRESH-INTERVAL;VALUE=DURATION:PT1H
X-Robots-Tag:noindex
X-PUBLISHED-TTL:PT1H
BEGIN:VTIMEZONE
TZID:Europe/Paris
BEGIN:DAYLIGHT
TZOFFSETFROM:+0100
TZOFFSETTO:+0200
TZNAME:CEST
DTSTART:20190331T010000
END:DAYLIGHT
BEGIN:STANDARD
TZOFFSETFROM:+0200
TZOFFSETTO:+0100
TZNAME:CET
DTSTART:20191027T010000
END:STANDARD
BEGIN:DAYLIGHT
TZOFFSETFROM:+0100
TZOFFSETTO:+0200
TZNAME:CEST
DTSTART:20200329T010000
END:DAYLIGHT
BEGIN:STANDARD
TZOFFSETFROM:+0200
TZOFFSETTO:+0100
TZNAME:CET
DTSTART:20201025T010000
END:STANDARD
BEGIN:DAYLIGHT
TZOFFSETFROM:+0100
TZOFFSETTO:+0200
TZNAME:CEST
DTSTART:20210328T010000
END:DAYLIGHT
BEGIN:STANDARD
TZOFFSETFROM:+0200
TZOFFSETTO:+0100
TZNAME:CET
DTSTART:20211031T010000
END:STANDARD
END:VTIMEZONE
BEGIN:VEVENT
DTSTART;VALUE=DATE:20200229
DTEND;VALUE=DATE:20200301
DTSTAMP:20260420T101235
CREATED:20190604T140241Z
LAST-MODIFIED:20190614T154231Z
UID:1100-1582934400-1583020799@www.ccjeanvilar.fr
SUMMARY:CHANCE !
DESCRIPTION:ATTENTION !  AU THÉÂTRE DU VÉSINET \nComédie musicale \nSamedi 29 février à 20h45 \nLivret\, musique et mise en scène : Hervé DEVOLDER\nChorégraphie : Cathy Arondel\nAvec Cathy Arondel\, Julie Wingens\, Rachel Pignot\, Grégory Juppin\, David Jean\, Franck Vincent\, Daniel Glet (piano)\, Benoît Dunoyer de Segonzac (contrebasse) et Jean-Pierre Beuchard (guitare) \nSCÈNE ET PUBLIC / THÉÂTRE LA BRUYÈRE \nSeize ans après sa création\, cette délicieuse « comédie musicale de bureau » revient\, et pour notre plus grand plaisir. Dans l’atmosphère délirante d’un cabinet d’avocats pas comme les autres – où l’on travaille peu\, mais chante beaucoup ! – un coursier rocker\, un patron baryton lyrique\, deux secrétaires plus latino que dactylo\, une femme de ménage « flamenco »\, un assistant « cabaret » et une stagiaire effarée chantent\, dansent et jouent au loto\, en rêvant au gros lot ! Samba\, jazz et fugue classique sont convoqués pour raconter le quotidien\, les amours et les émois de ces étonnants juristes. \n « Ne manquez pas ce spectacle inventif et malicieux. Les interprètes s’emparent brillamment de ce marivaudage burlesque et follement drôle. » Télérama \n« L’enthousiasme et les prouesses des chanteurs font de cette comédie très musicale un spectacle d’une fantaisie constante agrémenté de pastiches savoureux et de clins d’œil malicieux. » Le Canard enchaîné \n\n \n\nMolière du spectacle musical 2019 \n\nPlacement numéroté\nPlein tarif 30 € • Tarif jeune & réduit 13 € \nDurée : 1h45 \nPour visionner la bande annonce\, cliquez sur l’affiche du spectacle. \n \n\n			\n				\n			\n			\n				\n			\n			\n				\n			\n		\n\n\n 
URL:https://www.ccjeanvilar.fr/event/chance/
CATEGORIES:comédie musicale
END:VEVENT
END:VCALENDAR