
BEGIN:VCALENDAR
VERSION:2.0
PRODID:-//Centre Culturel Jean Vilar - ECPv6.15.20//NONSGML v1.0//EN
CALSCALE:GREGORIAN
METHOD:PUBLISH
X-WR-CALNAME:Centre Culturel Jean Vilar
X-ORIGINAL-URL:https://www.ccjeanvilar.fr
X-WR-CALDESC:Évènements pour Centre Culturel Jean Vilar
REFRESH-INTERVAL;VALUE=DURATION:PT1H
X-Robots-Tag:noindex
X-PUBLISHED-TTL:PT1H
BEGIN:VTIMEZONE
TZID:Europe/Paris
BEGIN:DAYLIGHT
TZOFFSETFROM:+0100
TZOFFSETTO:+0200
TZNAME:CEST
DTSTART:20230326T010000
END:DAYLIGHT
BEGIN:STANDARD
TZOFFSETFROM:+0200
TZOFFSETTO:+0100
TZNAME:CET
DTSTART:20231029T010000
END:STANDARD
BEGIN:DAYLIGHT
TZOFFSETFROM:+0100
TZOFFSETTO:+0200
TZNAME:CEST
DTSTART:20240331T010000
END:DAYLIGHT
BEGIN:STANDARD
TZOFFSETFROM:+0200
TZOFFSETTO:+0100
TZNAME:CET
DTSTART:20241027T010000
END:STANDARD
BEGIN:DAYLIGHT
TZOFFSETFROM:+0100
TZOFFSETTO:+0200
TZNAME:CEST
DTSTART:20250330T010000
END:DAYLIGHT
BEGIN:STANDARD
TZOFFSETFROM:+0200
TZOFFSETTO:+0100
TZNAME:CET
DTSTART:20251026T010000
END:STANDARD
END:VTIMEZONE
BEGIN:VEVENT
DTSTART;TZID=Europe/Paris:20240928T203000
DTEND;TZID=Europe/Paris:20240928T203000
DTSTAMP:20260420T101528
CREATED:20240618T092055Z
LAST-MODIFIED:20240827T123012Z
UID:5573-1727555400-1727555400@www.ccjeanvilar.fr
SUMMARY:DU CHARBON DANS LES VEINES
DESCRIPTION:Théâtre \nSamedi 28 septembre 2024 à 20h30 \nDe Jean-Philippe DAGUERRE\nMise en scène : Jean-Philippe Daguerre\nAvec Juliette Behar\, Raphaëlle Cambray\, Jean-Philippe Daguerre\, Théo Dusoulié\, Julien Ratel\, Aladin Reibel et Jean-Jacques Vanier \nKI M’AIME ME SUIVE / LE GRENIER DE BABOUCHKA / PLACE 26 \n1958\, à Nœux-Les-Mines\, petite ville minière du Nord de la France.\nPierre et Vlad sont les deux meilleurs amis du monde. Ces deux « gueules noires » passent tout leur temps ensemble : ils creusent à la mine\, élèvent des pigeons-voyageurs le dimanche et jouent de l’accordéon dans l’orchestre local dirigé par Sosthène « boute-en-train-philosophe de comptoir »\, personnage central de cette petite sphère joviale et haute en couleurs malgré la poussière du charbon.\nMais du jour où la jeune et jolie Leila vient jouer de l’accordéon dans l’orchestre\, le monde des deux amis ne sera plus le même…\nDu charbon dans les veines est la dernière création de Jean-Philippe Daguerre\, auteur entre autres de Adieu monsieur Haffmann\, pour lequel il a été récompensé par deux Molières. \n« C’est un amour entre amis… Et un amour entre amis\, ça se construit\, chaque jour… » Simone \n« Une magnifique ode à l’humanité. » Vaucluse matin \n« Le nouveau Daguerre est remarquable ! La scénographie est admirable\, la distribution est impeccable. » L’ Œil d’Olivier \n« Cette pièce regorge de générosité. » La Marseillaise \nAvec le soutien de l’espace Courbevoie\, du Petit Théâtre de Rueil-Malmaison et du Centre culturel Jean Vilar de Marly-le-Roi \nPlacement numéroté\nPlein tarif : 26 € / Tarif jeune & réduit : 17 €\nTarif abonné : 20 € / Tarif jeune abonné : 13 € \nDurée : 1h20 \n \n\n			\n				\n			\n			\n				\n			\n			\n				\n			\n			\n				\n			\n		\n\n© Grégoire Matzneff \n  \n \n  \n  \n  \n  \nVisiter le Musée de la mine de Noeux-les-mines \nDocumentaire Le Nord\, terre de charbon de Laurent Javoy \n  \n \nGerminal de Claude Berri\, 1993 \n  \nBIBLIOTHÈQUE PIERRE BOURDAN \n\nGerminal – Émile Zola\, Classiques abrégés de l’école des loisirs \n  \n 
URL:https://www.ccjeanvilar.fr/event/du-charbon-dans-les-veines/
ATTACH;FMTTYPE=image/jpeg:https://www.ccjeanvilar.fr/wp-content/uploads/2024/05/DSCF0368-Medium.jpg
END:VEVENT
END:VCALENDAR