
BEGIN:VCALENDAR
VERSION:2.0
PRODID:-//Centre Culturel Jean Vilar - ECPv6.15.20//NONSGML v1.0//EN
CALSCALE:GREGORIAN
METHOD:PUBLISH
X-WR-CALNAME:Centre Culturel Jean Vilar
X-ORIGINAL-URL:https://www.ccjeanvilar.fr
X-WR-CALDESC:Évènements pour Centre Culturel Jean Vilar
REFRESH-INTERVAL;VALUE=DURATION:PT1H
X-Robots-Tag:noindex
X-PUBLISHED-TTL:PT1H
BEGIN:VTIMEZONE
TZID:Europe/Paris
BEGIN:DAYLIGHT
TZOFFSETFROM:+0100
TZOFFSETTO:+0200
TZNAME:CEST
DTSTART:20220327T010000
END:DAYLIGHT
BEGIN:STANDARD
TZOFFSETFROM:+0200
TZOFFSETTO:+0100
TZNAME:CET
DTSTART:20221030T010000
END:STANDARD
BEGIN:DAYLIGHT
TZOFFSETFROM:+0100
TZOFFSETTO:+0200
TZNAME:CEST
DTSTART:20230326T010000
END:DAYLIGHT
BEGIN:STANDARD
TZOFFSETFROM:+0200
TZOFFSETTO:+0100
TZNAME:CET
DTSTART:20231029T010000
END:STANDARD
BEGIN:DAYLIGHT
TZOFFSETFROM:+0100
TZOFFSETTO:+0200
TZNAME:CEST
DTSTART:20240331T010000
END:DAYLIGHT
BEGIN:STANDARD
TZOFFSETFROM:+0200
TZOFFSETTO:+0100
TZNAME:CET
DTSTART:20241027T010000
END:STANDARD
END:VTIMEZONE
BEGIN:VEVENT
DTSTART;TZID=Europe/Paris:20230415T203000
DTEND;TZID=Europe/Paris:20230415T220000
DTSTAMP:20260420T101548
CREATED:20220603T163445Z
LAST-MODIFIED:20230415T135052Z
UID:4047-1681590600-1681596000@www.ccjeanvilar.fr
SUMMARY:UNE VIE DE PIANISTE
DESCRIPTION:Vous pouvez consulter le programme de la soirée en cliquant sur ce lien. \nSpectacle musical \nSamedi 15 avril à 20h30 \nD’Agnès BOURY et Paul STAÏCU\nMise en scène : Agnès Boury\nAvec Paul Staïcu \nCRISTAL PRODUCTION / STEPHYCOM \nPaul Staïcu met en scène avec beaucoup d’humour le récit de sa vie de pianiste. Formé dès son plus jeune âge à la rude école roumaine du piano classique\, élevé au jazz dans la plus grande clandestinité\, Paul vit son adolescence dans le Bucarest de Ceaușescu. Viennent ensuite son évasion rocambolesque\, l’asile politique\, le Conservatoire de Paris et les débuts professionnels. \nCopieusement primé dans les deux pays qui sont les siens\, il promène son regard candide sur un parcours atypique qu’il illustre en interprétant avec brio des musiques de tous horizons\, de Schumann à Elton John. \nLes élèves du Conservatoire Roger Bourdin joueront en première partie. \n« Virtuose et plein d’humour. Qu’il y a de fantaisie\, de détachement\, de légèreté chez Paul Staïcu ! Il pince\, accroche\, caresse\, effleure\, brutalise. Sur les touches\, ses mains s’emmêlent à toute vitesse. Le piano est sa grammaire naturelle. » Figaroscope \n« Un vrai showman au talent impressionnant. » Froggy’s delight \n   En partenariat avec la Ville de Marly-le-Roi       \nPlacement numéroté\nPlein tarif : 25 € / Tarif jeune & réduit : 16 €\nTarif abonné : 19 € / Tarif jeune abonné : 12 € \nDurée : 1h30 \nCliquez ici pour visualiser la bande annonce du spectacle. \n\n			\n				\n			\n			\n				\n			\n			\n				\n			\n		\n\n© Cl. Mass 19 \n \n Vidéos\n \n\nDocumentaire INA : Décembre 1989\, la chute de Ceausescu en Roumanie\n09 novembre 1989 : Le Mur de Berlin est détruit par les Allemands | Archive INA\nL’histoire du mur de Berlin\, de la guerre à la chute\nRoumanie 1989\, histoire d’une révolution en direct à la tv | Archive INA
URL:https://www.ccjeanvilar.fr/event/une-vie-de-pianiste/
ATTACH;FMTTYPE=image/jpeg:https://www.ccjeanvilar.fr/wp-content/uploads/2022/06/UNE-VIE-DE-PIANISTE.jpg
END:VEVENT
END:VCALENDAR